BEGIN:VCALENDAR
PRODID:-//eluceo/ical//2.0/EN
VERSION:2.0
CALSCALE:GREGORIAN
BEGIN:VEVENT
UID:8530dd6d60ee04ff4ab06f78cda61bb2
DTSTAMP:20260424T183447Z
SUMMARY:JCC Founders Dinner Dance
DESCRIPTION:Jewish Federation & Foundation of Rockland County\nCommunity Ca
 lendar\nhttps://jewishrockland.org/calendar/jcc-founders-dinner-dance-2014
 \n\nJCC Founders Dinner Dance
DTSTART;TZID=America/New_York:20140323T180000
DTEND;TZID=America/New_York:20140323T183000
END:VEVENT
END:VCALENDAR
