BEGIN:VCALENDAR
PRODID:-//eluceo/ical//2.0/EN
VERSION:2.0
CALSCALE:GREGORIAN
BEGIN:VEVENT
UID:325fe93ac866fb1bf75e99b31ea397fd
DTSTAMP:20260425T183913Z
SUMMARY:Night Under the Stars
DESCRIPTION:Jewish Federation & Foundation of Rockland County\nCommunity Ca
 lendar\nhttps://jewishrockland.org/calendar/jcc-fundraiser---more-informat
 ion-to-come-1659376926\n\nMore information to come.\n\nTBD. Contact Alex H
 eller for more information.
DTSTART;TZID=America/New_York:20221210T193000
DTEND;TZID=America/New_York:20221210T230000
END:VEVENT
END:VCALENDAR
