BEGIN:VCALENDAR
PRODID:-//eluceo/ical//2.0/EN
VERSION:2.0
CALSCALE:GREGORIAN
BEGIN:VEVENT
UID:80afc77e8e4ca5f86cae44fcb33a47e3
DTSTAMP:20260422T003007Z
SUMMARY:JCC Maccabi Games 2016 - Opening Ceremony
DESCRIPTION:Jewish Federation & Foundation of Rockland County\nCommunity Ca
 lendar\nhttps://jewishrockland.org/calendar/jcc-maccabi-games-2016-opening
 -ceremony\n\nJCC Maccabi Games 2016 Opening Ceremony. \n\nSupport your JC
 C Rockland Maccabi teams on opening day at the Games in Stamford\, CT. For
  more information visit http://www.jccmaccabigames.org/\n\n 
DTSTART;TZID=America/New_York:20160807T190000
DTEND;TZID=America/New_York:20160807T213000
END:VEVENT
END:VCALENDAR
