BEGIN:VCALENDAR
PRODID:-//eluceo/ical//2.0/EN
VERSION:2.0
CALSCALE:GREGORIAN
BEGIN:VEVENT
UID:018c5aed28f4adb21cda7c81374eaf2a
DTSTAMP:20260422T070541Z
SUMMARY:JCC Maccabi Games in Dallas\, TX and Milwaukee\, WI
DESCRIPTION:Jewish Federation & Foundation of Rockland County\nCommunity Ca
 lendar\nhttps://jewishrockland.org/calendar/jcc-maccabi-games-in-dallas-tx
 -and-milwaukee-wi-66598\n\nThe JCC Maccabi Games are the largest organized
  sports program for Jewish teenagers in the world. Each summer\, over 5\,0
 00 Jewish teens participate in the program\, with over 100\,000 teens havi
 ng benefited from the JCC Maccabi Games® since 1982. The energy and excit
 ement that comes from bringing together both the local and global Jewish c
 ommunities make it a unique and unforgettable experience for every partici
 pant.
DTSTART;TZID=America/New_York:20150802T100000
DTEND;TZID=America/New_York:20150807T150000
END:VEVENT
END:VCALENDAR
