BEGIN:VCALENDAR
PRODID:-//eluceo/ical//2.0/EN
VERSION:2.0
CALSCALE:GREGORIAN
BEGIN:VEVENT
UID:e7b585e033b53ef12cd10b323aba882c
DTSTAMP:20260424T165938Z
SUMMARY:JCC Maccabi Games in Orange County
DESCRIPTION:Jewish Federation & Foundation of Rockland County\nCommunity Ca
 lendar\nhttps://jewishrockland.org/calendar/jcc-maccabi-orange-county-2018
 \n\nMaccabi Games. Visit jccrockland.org for more information.
DTSTART;TZID=America/New_York:20180805T000000
DTEND;TZID=America/New_York:20180809T000000
END:VEVENT
END:VCALENDAR
