BEGIN:VCALENDAR
PRODID:-//eluceo/ical//2.0/EN
VERSION:2.0
CALSCALE:GREGORIAN
BEGIN:VEVENT
UID:ecb48abf4d64a650cc3904f31534ca2b
DTSTAMP:20260420T211412Z
SUMMARY:JCC Munich 11 Memorial Ceremony
DESCRIPTION:Jewish Federation & Foundation of Rockland County\nCommunity Ca
 lendar\nhttps://jewishrockland.org/calendar/jcc-munich-11-memorial-ceremon
 y\n\nJCC Munich 11 Memorial Ceremony
DTSTART;TZID=America/New_York:20130908T093000
DTEND;TZID=America/New_York:20130908T100000
END:VEVENT
END:VCALENDAR
