BEGIN:VCALENDAR
PRODID:-//eluceo/ical//2.0/EN
VERSION:2.0
CALSCALE:GREGORIAN
BEGIN:VEVENT
UID:3bc6670cfa0d885484fd34267f218ade
DTSTAMP:20260419T153712Z
SUMMARY:JCC Rockland 27th Founders Dinner Dance
DESCRIPTION:Jewish Federation & Foundation of Rockland County\nCommunity Ca
 lendar\nhttps://jewishrockland.org/calendar/jcc-rockland-27th-founders-din
 ner-dance-77700\n\n27th JCC Rockland Founders Dinner Dance
DTSTART;TZID=America/New_York:20150426T180000
DTEND;TZID=America/New_York:20150426T220000
END:VEVENT
END:VCALENDAR
