BEGIN:VCALENDAR
PRODID:-//eluceo/ical//2.0/EN
VERSION:2.0
CALSCALE:GREGORIAN
BEGIN:VEVENT
UID:511dd157c8603eec3fdc694c94f7b018
DTSTAMP:20260425T114155Z
SUMMARY:JCC Rockland ABC Event: SALLY KOHN
DESCRIPTION:Jewish Federation & Foundation of Rockland County\nCommunity Ca
 lendar\nhttps://jewishrockland.org/calendar/jcc-rockland-abc-event\n\nJCC 
 ROCKLAND’S 2018 festival of arts\, books & culture\n\nTHE OPPOSITE OF HA
 TE: A FIELD GUIDE TO REPAIRING OUR HUMANITY \n\nAuthor: SALLY KOHN\n\nWha
 t is the opposite of hate? As a progressive commentator on Fox News and no
 w CNN\, Sally Kohn has made a career out of bridging intractable political
  differences and learning how to talk respectfully with people whose views
  she disagrees with passionately. But these days even famously “nice” 
 Kohn finds herself wanting to breathe fire at her e...
DTSTART;TZID=America/New_York:20181206T190000
DTEND;TZID=America/New_York:20181206T210000
END:VEVENT
END:VCALENDAR
