BEGIN:VCALENDAR
PRODID:-//eluceo/ical//2.0/EN
VERSION:2.0
CALSCALE:GREGORIAN
BEGIN:VEVENT
UID:1cf0baf74b2df2d15c2c0a8e01e8e90a
DTSTAMP:20260419T184953Z
SUMMARY:JCC Rockland ABC Event: BARRY JOSEPH
DESCRIPTION:Jewish Federation & Foundation of Rockland County\nCommunity Ca
 lendar\nhttps://jewishrockland.org/calendar/jcc-rockland-abc-event-1529503
 402\n\n \n\nJCC ROCKLAND’S 2018 festival of arts\, books & culture. Vis
 it jccrockland.org/abc for more information.\n\nSELTZERTOPIA\n\nAUTHOR: BA
 RRY JOSEPH\n\nThroughout history and across America today\, seltzer’s fi
 zzy flavor has attracted a loyalty and passion that often defies logic. Se
 ltzer is more popular now than at any time in history\, reflecting the cul
 tural desires of those who partake of its bubbles. How did such an ordinar
 y drink become so extraordinary? Barry Joseph has spent the las...
DTSTART;TZID=America/New_York:20181129T190000
DTEND;TZID=America/New_York:20181129T210000
END:VEVENT
END:VCALENDAR
