BEGIN:VCALENDAR
PRODID:-//eluceo/ical//2.0/EN
VERSION:2.0
CALSCALE:GREGORIAN
BEGIN:VEVENT
UID:60992a8087f17dfabb865a3c858490af
DTSTAMP:20260420T094908Z
SUMMARY:JCC Rockland Arts\, Book and Culture - Festival of ABC Lunch and Le
 arn
DESCRIPTION:Jewish Federation & Foundation of Rockland County\nCommunity Ca
 lendar\nhttps://jewishrockland.org/calendar/jcc-rockland-arts-book-and-cul
 ture-festival-of-abc-lunch-and-learn-157405\n\nFestival of ABC Lunch and L
 earn - The Catskills\n\nVisit jccrockland.org for more information
DTSTART;TZID=America/New_York:20151113T120000
DTEND;TZID=America/New_York:20151113T170000
END:VEVENT
END:VCALENDAR
