BEGIN:VCALENDAR
PRODID:-//eluceo/ical//2.0/EN
VERSION:2.0
CALSCALE:GREGORIAN
BEGIN:VEVENT
UID:4b486b0216a20916fad095a14e0117c6
DTSTAMP:20260424T062701Z
SUMMARY:JCC Rockland Cultural Arts Festival
DESCRIPTION:Jewish Federation & Foundation of Rockland County\nCommunity Ca
 lendar\nhttps://jewishrockland.org/calendar/jcc-rockland-cultural-arts-fes
 tival\n\nJoin us for a wide variety of events including art\, authors\, co
 medy\, and film.
DTSTART;TZID=America/New_York:20141102T020000
DTEND;TZID=America/New_York:20141127T220000
END:VEVENT
END:VCALENDAR
