BEGIN:VCALENDAR
PRODID:-//eluceo/ical//2.0/EN
VERSION:2.0
CALSCALE:GREGORIAN
BEGIN:VEVENT
UID:fffea6038857f5309871c46f36876dbd
DTSTAMP:20260423T071547Z
SUMMARY:JCC Rockland Fall Winter Fundraiser
DESCRIPTION:Jewish Federation & Foundation of Rockland County\nCommunity Ca
 lendar\nhttps://jewishrockland.org/calendar/jcc-rockland-fall-winter-fundr
 aiser-1556040003\n\nEvent to celebrate JCC Rockland honorees
DTSTART;TZID=America/New_York:20191116T180000
DTEND;TZID=America/New_York:20191116T200000
END:VEVENT
END:VCALENDAR
