BEGIN:VCALENDAR
PRODID:-//eluceo/ical//2.0/EN
VERSION:2.0
CALSCALE:GREGORIAN
BEGIN:VEVENT
UID:c5b03b50c04316c5784ddc1678d83a51
DTSTAMP:20260423T120148Z
SUMMARY:JCC Rockland Fall/Winter Sports Early Registration
DESCRIPTION:Jewish Federation & Foundation of Rockland County\nCommunity Ca
 lendar\nhttps://jewishrockland.org/calendar/jcc-rockland-fall-winter-sport
 s-early-registration\n\nJCC Fall/Winter Early Registration
DTSTART;TZID=America/New_York:20130521T190000
DTEND;TZID=America/New_York:20130521T210000
END:VEVENT
END:VCALENDAR
