BEGIN:VCALENDAR
PRODID:-//eluceo/ical//2.0/EN
VERSION:2.0
CALSCALE:GREGORIAN
BEGIN:VEVENT
UID:d9abd569595a1736cfffbb852ab0f989
DTSTAMP:20260421T204643Z
SUMMARY:JCC Rockland Film Festival
DESCRIPTION:Jewish Federation & Foundation of Rockland County\nCommunity Ca
 lendar\nhttps://jewishrockland.org/calendar/jcc-rockland-film-festival\n\n
 Specific film to be announced. Visit www.jccrockland.org for more informat
 ion.
DTSTART;TZID=America/New_York:20041215T143000
DTEND;TZID=America/New_York:20041215T160000
END:VEVENT
END:VCALENDAR
