BEGIN:VCALENDAR
PRODID:-//eluceo/ical//2.0/EN
VERSION:2.0
CALSCALE:GREGORIAN
BEGIN:VEVENT
UID:6cc6451bfcc017aaaaa7d19d45b4d6f5
DTSTAMP:20260423T110235Z
SUMMARY:JCC Rockland Film Festival
DESCRIPTION:Jewish Federation & Foundation of Rockland County\nCommunity Ca
 lendar\nhttps://jewishrockland.org/calendar/jcc-rockland-film-festival-159
 6483492\n\nJCC Rockland Film Festival
DTSTART;TZID=America/New_York:20210406T190000
DTEND;TZID=America/New_York:20210406T213000
END:VEVENT
END:VCALENDAR
