BEGIN:VCALENDAR
PRODID:-//eluceo/ical//2.0/EN
VERSION:2.0
CALSCALE:GREGORIAN
BEGIN:VEVENT
UID:8f1b091ab386916c6b351f344e8650ae
DTSTAMP:20260420T032102Z
SUMMARY:JCC Rockland Film Festival
DESCRIPTION:Jewish Federation & Foundation of Rockland County\nCommunity Ca
 lendar\nhttps://jewishrockland.org/calendar/jcc-rockland-film-festival-159
 6483700\n\nJCC Rockland Film Festival
DTSTART;TZID=America/New_York:20210412T190000
DTEND;TZID=America/New_York:20210412T213000
END:VEVENT
END:VCALENDAR
