BEGIN:VCALENDAR
PRODID:-//eluceo/ical//2.0/EN
VERSION:2.0
CALSCALE:GREGORIAN
BEGIN:VEVENT
UID:f32978a86614ccba45c0027568c68a37
DTSTAMP:20260421T200948Z
SUMMARY:JCC Rockland Film Festival
DESCRIPTION:Jewish Federation & Foundation of Rockland County\nCommunity Ca
 lendar\nhttps://jewishrockland.org/calendar/jcc-rockland-film-festival-159
 6484592\n\nJCC Rockland Film Festival
DTSTART;TZID=America/New_York:20210504T190000
DTEND;TZID=America/New_York:20210504T213000
END:VEVENT
END:VCALENDAR
