BEGIN:VCALENDAR
PRODID:-//eluceo/ical//2.0/EN
VERSION:2.0
CALSCALE:GREGORIAN
BEGIN:VEVENT
UID:5a2bd0767078654fc45a5432915c5594
DTSTAMP:20260422T143237Z
SUMMARY:JCC Rockland Film Festival
DESCRIPTION:Jewish Federation & Foundation of Rockland County\nCommunity Ca
 lendar\nhttps://jewishrockland.org/calendar/jcc-rockland-film-festival-161
 8581512\n\nJCC Rockland Film Festival
DTSTART;TZID=America/New_York:20220412T193000
DTEND;TZID=America/New_York:20220412T210000
END:VEVENT
END:VCALENDAR
