BEGIN:VCALENDAR
PRODID:-//eluceo/ical//2.0/EN
VERSION:2.0
CALSCALE:GREGORIAN
BEGIN:VEVENT
UID:4727c1d703c41a27ba2e0b826b8e39c0
DTSTAMP:20260424T231024Z
SUMMARY:JCC Rockland Film Festival
DESCRIPTION:Jewish Federation & Foundation of Rockland County\nCommunity Ca
 lendar\nhttps://jewishrockland.org/calendar/jcc-rockland-film-festival-161
 8581615\n\nJCC Rockland Film Festival
DTSTART;TZID=America/New_York:20220426T193000
DTEND;TZID=America/New_York:20220426T210000
END:VEVENT
END:VCALENDAR
