BEGIN:VCALENDAR
PRODID:-//eluceo/ical//2.0/EN
VERSION:2.0
CALSCALE:GREGORIAN
BEGIN:VEVENT
UID:c6cd5b6ef4c2bc115df7cd0451e48347
DTSTAMP:20260421T120253Z
SUMMARY:JCC Rockland Film Festival
DESCRIPTION:Jewish Federation & Foundation of Rockland County\nCommunity Ca
 lendar\nhttps://jewishrockland.org/calendar/jcc-rockland-film-festival-161
 8587797\n\nJCC Rockland Film Festival
DTSTART;TZID=America/New_York:20220503T193000
DTEND;TZID=America/New_York:20220503T210000
END:VEVENT
END:VCALENDAR
