BEGIN:VCALENDAR
PRODID:-//eluceo/ical//2.0/EN
VERSION:2.0
CALSCALE:GREGORIAN
BEGIN:VEVENT
UID:932ca11afe4fab26cc2e5f139372ed2c
DTSTAMP:20260423T000508Z
SUMMARY:JCC Rockland Film Festival
DESCRIPTION:Jewish Federation & Foundation of Rockland County\nCommunity Ca
 lendar\nhttps://jewishrockland.org/calendar/jcc-rockland-film-festival-164
 4875426\n\nJCC Rockland Film Festival
DTSTART;TZID=America/New_York:20220425T193000
DTEND;TZID=America/New_York:20220425T210000
END:VEVENT
END:VCALENDAR
