BEGIN:VCALENDAR
PRODID:-//eluceo/ical//2.0/EN
VERSION:2.0
CALSCALE:GREGORIAN
BEGIN:VEVENT
UID:c30cb8891a100e9fab7a30d63bcd7953
DTSTAMP:20260420T175521Z
SUMMARY:JCC Rockland Film Festival - 3-31-15 - Evening
DESCRIPTION:Jewish Federation & Foundation of Rockland County\nCommunity Ca
 lendar\nhttps://jewishrockland.org/calendar/jcc-rockland-film-festival-3-3
 1-15--evening-77879\n\n12th Annual JCC Rockland International Jewish Film 
 Festival. Visit www.jccrockland.org for more information.
DTSTART;TZID=America/New_York:20150331T193000
DTEND;TZID=America/New_York:20150331T220000
END:VEVENT
END:VCALENDAR
