BEGIN:VCALENDAR
PRODID:-//eluceo/ical//2.0/EN
VERSION:2.0
CALSCALE:GREGORIAN
BEGIN:VEVENT
UID:c376d62a913a414325f4d04b21741fbc
DTSTAMP:20260425T014802Z
SUMMARY:JCC Rockland Film Festival 3/14/17
DESCRIPTION:Jewish Federation & Foundation of Rockland County\nCommunity Ca
 lendar\nhttps://jewishrockland.org/calendar/jcc-rockland-film-festival-314
 17\n\nJCC Rockland Film Festival 2017
DTSTART;TZID=America/New_York:20170314T193000
DTEND;TZID=America/New_York:20170314T213000
END:VEVENT
END:VCALENDAR
