BEGIN:VCALENDAR
PRODID:-//eluceo/ical//2.0/EN
VERSION:2.0
CALSCALE:GREGORIAN
BEGIN:VEVENT
UID:821c4e6b1202152c4f67d3d340f26dc5
DTSTAMP:20260420T144931Z
SUMMARY:JCC Rockland Film Festival - 4-16-15 - Afternoon
DESCRIPTION:Jewish Federation & Foundation of Rockland County\nCommunity Ca
 lendar\nhttps://jewishrockland.org/calendar/jcc-rockland-film-festival-4-1
 6-15--afternoon-77706\n\n12th Annual JCC Rockland International Jewish Fil
 m Festival. Visit www.jccrockland.org/cultural-arts/film-festival/ for mo
 re information.
DTSTART;TZID=America/New_York:20150416T143000
DTEND;TZID=America/New_York:20150416T173000
END:VEVENT
END:VCALENDAR
