BEGIN:VCALENDAR
PRODID:-//eluceo/ical//2.0/EN
VERSION:2.0
CALSCALE:GREGORIAN
BEGIN:VEVENT
UID:bcbf68a50877c476dd6cd3a94a686365
DTSTAMP:20260420T145011Z
SUMMARY:JCC Rockland Film Festival - 4-22-15 - Afternoon
DESCRIPTION:Jewish Federation & Foundation of Rockland County\nCommunity Ca
 lendar\nhttps://jewishrockland.org/calendar/jcc-rockland-film-festival-4-2
 2-15-afternoon-78344\n\n12th Annual JCC Rockland International Jewish Film
  Festival. Visit www.jccrockland.org for more information.
DTSTART;TZID=America/New_York:20150422T143000
DTEND;TZID=America/New_York:20150422T163000
END:VEVENT
END:VCALENDAR
