BEGIN:VCALENDAR
PRODID:-//eluceo/ical//2.0/EN
VERSION:2.0
CALSCALE:GREGORIAN
BEGIN:VEVENT
UID:6b27e9117d63831df7f1c9fad610879c
DTSTAMP:20260420T050553Z
SUMMARY:JCC Rockland Film Festival - 4-24-15 - Afternoon
DESCRIPTION:Jewish Federation & Foundation of Rockland County\nCommunity Ca
 lendar\nhttps://jewishrockland.org/calendar/jcc-rockland-film-festival-4-2
 4-15--afternoon-78346\n\n12th Annual JCC Rockland International Jewish Fil
 m Festival. Visit www.jccrockland.org for more information.
DTSTART;TZID=America/New_York:20150424T140000
DTEND;TZID=America/New_York:20150424T160000
END:VEVENT
END:VCALENDAR
