BEGIN:VCALENDAR
PRODID:-//eluceo/ical//2.0/EN
VERSION:2.0
CALSCALE:GREGORIAN
BEGIN:VEVENT
UID:d3d47cc3093085f71b4fd4ea323f3e78
DTSTAMP:20260420T000644Z
SUMMARY:JCC Rockland Film Festival - 4-8-14-Afternoon
DESCRIPTION:Jewish Federation & Foundation of Rockland County\nCommunity Ca
 lendar\nhttps://jewishrockland.org/calendar/jcc-rockland-film-festival-4-8
 -14-afternoon-77704\n\n12th Annual JCC Rockland International Jewish Film 
 Festival. Visit www.jccrockland.org/cultural-arts/film-festival/ for more 
 information.
DTSTART;TZID=America/New_York:20150408T143000
DTEND;TZID=America/New_York:20150408T163000
END:VEVENT
END:VCALENDAR
