BEGIN:VCALENDAR
PRODID:-//eluceo/ical//2.0/EN
VERSION:2.0
CALSCALE:GREGORIAN
BEGIN:VEVENT
UID:39d6bd90caf4f6da112fadee37830eaf
DTSTAMP:20260419T132640Z
SUMMARY:JCC Rockland Film Festival - 4-8-15 - Evening
DESCRIPTION:Jewish Federation & Foundation of Rockland County\nCommunity Ca
 lendar\nhttps://jewishrockland.org/calendar/jcc-rockland-film-festival-4-8
 -15--evening-78341\n\n12th Annual JCC Rockland International Jewish Film F
 estival. Visit www.jccrockland.org/cultural-arts/film-festival/ for more i
 nformation.
DTSTART;TZID=America/New_York:20150408T190000
DTEND;TZID=America/New_York:20150408T220000
END:VEVENT
END:VCALENDAR
