BEGIN:VCALENDAR
PRODID:-//eluceo/ical//2.0/EN
VERSION:2.0
CALSCALE:GREGORIAN
BEGIN:VEVENT
UID:dffe7ebafb7e3369eb875983b8ca1b4d
DTSTAMP:20260421T071837Z
SUMMARY:JCC Rockland Film Festival 4/10/16 - Morganthau
DESCRIPTION:Jewish Federation & Foundation of Rockland County\nCommunity Ca
 lendar\nhttps://jewishrockland.org/calendar/jcc-rockland-film-festival-410
 16\n\nSave the date and check our website\,jccrockland.org\, for more info
 rmation as it becomes available.
DTSTART;TZID=America/New_York:20160410T190000
DTEND;TZID=America/New_York:20160410T210000
END:VEVENT
END:VCALENDAR
