BEGIN:VCALENDAR
PRODID:-//eluceo/ical//2.0/EN
VERSION:2.0
CALSCALE:GREGORIAN
BEGIN:VEVENT
UID:3af27ac3ca6d7df7f994685ce223b2c7
DTSTAMP:20260423T074512Z
SUMMARY:JCC Rockland Film Festival 4/19/16 - Once in a Lifetime
DESCRIPTION:Jewish Federation & Foundation of Rockland County\nCommunity Ca
 lendar\nhttps://jewishrockland.org/calendar/jcc-rockland-film-festival-419
 16\n\nSave the date and check our website\,jccrockland.org\, for more info
 rmation as it becomes available.
DTSTART;TZID=America/New_York:20160419T193000
DTEND;TZID=America/New_York:20160419T213000
END:VEVENT
END:VCALENDAR
