BEGIN:VCALENDAR
PRODID:-//eluceo/ical//2.0/EN
VERSION:2.0
CALSCALE:GREGORIAN
BEGIN:VEVENT
UID:e26b44084b67f7baecbfc13636b68882
DTSTAMP:20260419T194419Z
SUMMARY:JCC Rockland Film Festival 4/5/16 - The Last Mentsch
DESCRIPTION:Jewish Federation & Foundation of Rockland County\nCommunity Ca
 lendar\nhttps://jewishrockland.org/calendar/jcc-rockland-film-festival-451
 6\n\nSave the date and check our website\,jccrockland.org\, for more infor
 mation as it becomes available.
DTSTART;TZID=America/New_York:20160405T193000
DTEND;TZID=America/New_York:20160405T213000
END:VEVENT
END:VCALENDAR
