BEGIN:VCALENDAR
PRODID:-//eluceo/ical//2.0/EN
VERSION:2.0
CALSCALE:GREGORIAN
BEGIN:VEVENT
UID:fd30cb6d4d8b2840f99bc3c1fe67ac57
DTSTAMP:20260423T013959Z
SUMMARY:JCC Rockland Film Festival 4/11/16 - Midnight Orchestra
DESCRIPTION:Jewish Federation & Foundation of Rockland County\nCommunity Ca
 lendar\nhttps://jewishrockland.org/calendar/jcc-rockland-film-festival-mid
 night-orchestra\n\nSave the date and check our website\,jccrockland.org\, 
 for more information as it becomes available.
DTSTART;TZID=America/New_York:20160411T193000
DTEND;TZID=America/New_York:20160411T213000
END:VEVENT
END:VCALENDAR
