BEGIN:VCALENDAR
PRODID:-//eluceo/ical//2.0/EN
VERSION:2.0
CALSCALE:GREGORIAN
BEGIN:VEVENT
UID:15d31e521883c5bc5b69c80bf111228d
DTSTAMP:20260420T175450Z
SUMMARY:JCC Rockland Film Festival Prelude - Who Will Write Our History
DESCRIPTION:Jewish Federation & Foundation of Rockland County\nCommunity Ca
 lendar\nhttps://jewishrockland.org/calendar/jcc-rockland-film-festival-pre
 lude---who-will-write-our-history-1546006315\n\nThis powerful documentary 
 from director Roberta Grossman and executive producer Nancy Spielberg tell
 s the story of underground resister Emanuel Ringelblum (voiced by Oscar-wi
 nner Adrien Brody) and the Oyneg Shabes Archive\, the secret collection of
  documents he created in the Warsaw Ghetto.
DTSTART;TZID=America/New_York:20190303T193000
DTEND;TZID=America/New_York:20190303T223000
END:VEVENT
END:VCALENDAR
