BEGIN:VCALENDAR
PRODID:-//eluceo/ical//2.0/EN
VERSION:2.0
CALSCALE:GREGORIAN
BEGIN:VEVENT
UID:5402400bed4aef4ba80c843d351d55d9
DTSTAMP:20260424T221654Z
SUMMARY:JCC Rockland Free Flag Football Clinic
DESCRIPTION:Jewish Federation & Foundation of Rockland County\nCommunity Ca
 lendar\nhttps://jewishrockland.org/calendar/jcc-rockland-free-flag-footbal
 l-clinic\n\nJCC Free Flag Football Clinic
DTSTART;TZID=America/New_York:20130519T160000
DTEND;TZID=America/New_York:20130519T170000
END:VEVENT
END:VCALENDAR
