BEGIN:VCALENDAR
PRODID:-//eluceo/ical//2.0/EN
VERSION:2.0
CALSCALE:GREGORIAN
BEGIN:VEVENT
UID:ba9d2f5cf86470089e39ce9a2ca40682
DTSTAMP:20260424T092848Z
SUMMARY:JCC Rockland Hanukkah Hooplah
DESCRIPTION:Jewish Federation & Foundation of Rockland County\nCommunity Ca
 lendar\nhttps://jewishrockland.org/calendar/jcc-rockland-hanukkah-hooplah-
 1679323572\n\nFamily fun activities to celebrate Hanukkah
DTSTART;TZID=America/New_York:20231130T173000
DTEND;TZID=America/New_York:20231130T190000
END:VEVENT
END:VCALENDAR
