BEGIN:VCALENDAR
PRODID:-//eluceo/ical//2.0/EN
VERSION:2.0
CALSCALE:GREGORIAN
BEGIN:VEVENT
UID:1b996b6749f6094fb208eb90ab7cf9da
DTSTAMP:20260423T043910Z
SUMMARY:JCC Rockland Hod Hasharon Teen Experience
DESCRIPTION:Jewish Federation & Foundation of Rockland County\nCommunity Ca
 lendar\nhttps://jewishrockland.org/calendar/jcc-rockland-hod-hasharon-teen
 -experience-1538403992\n\nTeens from Hod Hasharon in Israel visit with Roc
 kland teens.
DTSTART;TZID=America/New_York:20190409T000000
DTEND;TZID=America/New_York:20190418T000000
END:VEVENT
END:VCALENDAR
