BEGIN:VCALENDAR
PRODID:-//eluceo/ical//2.0/EN
VERSION:2.0
CALSCALE:GREGORIAN
BEGIN:VEVENT
UID:a1ca8ae796d9abeaef492f81068b6784
DTSTAMP:20260420T210056Z
SUMMARY:JCC Rockland International Jewish Film Festival
DESCRIPTION:Jewish Federation & Foundation of Rockland County\nCommunity Ca
 lendar\nhttps://jewishrockland.org/calendar/jcc-rockland-international-jew
 ish-film-festival-3\n\nJCC Rockland International Jewish Film Festival
DTSTART;TZID=America/New_York:20240326T190000
DTEND;TZID=America/New_York:20240326T210000
END:VEVENT
END:VCALENDAR
