BEGIN:VCALENDAR
PRODID:-//eluceo/ical//2.0/EN
VERSION:2.0
CALSCALE:GREGORIAN
BEGIN:VEVENT
UID:3cb15ea47a3bbdf3accf82e54d3b9586
DTSTAMP:20260419T210757Z
SUMMARY:JCC Rockland International Jewish Film Festival
DESCRIPTION:Jewish Federation & Foundation of Rockland County\nCommunity Ca
 lendar\nhttps://jewishrockland.org/calendar/jcc-rockland-international-jew
 ish-film-festival-7\n\nJCC Rockland International Jewish Film Festival
DTSTART;TZID=America/New_York:20240404T190000
DTEND;TZID=America/New_York:20240404T210000
END:VEVENT
END:VCALENDAR
