BEGIN:VCALENDAR
PRODID:-//eluceo/ical//2.0/EN
VERSION:2.0
CALSCALE:GREGORIAN
BEGIN:VEVENT
UID:26d9255f909233d90a962bb50ae950f3
DTSTAMP:20260419T210807Z
SUMMARY:JCC Rockland International Jewish Film Festival
DESCRIPTION:Jewish Federation & Foundation of Rockland County\nCommunity Ca
 lendar\nhttps://jewishrockland.org/calendar/jcc-rockland-international-jew
 ish-film-festival-9\n\nJCC Rockland International Jewish Film Festival
DTSTART;TZID=America/New_York:20240411T190000
DTEND;TZID=America/New_York:20240411T210000
END:VEVENT
END:VCALENDAR
