BEGIN:VCALENDAR
PRODID:-//eluceo/ical//2.0/EN
VERSION:2.0
CALSCALE:GREGORIAN
BEGIN:VEVENT
UID:dd7e0d001dc513b83e633f2461a6ed26
DTSTAMP:20260421T120523Z
SUMMARY:Phyllis Chesler\, "An American Bride in Kabul" JCC Rockland Cultura
 l Arts
DESCRIPTION:Jewish Federation & Foundation of Rockland County\nCommunity Ca
 lendar\nhttps://jewishrockland.org/calendar/jcc-rockland-jewish-cultural-a
 rts-festival-11-12-14-evening-66551\n\nJoin us as Phyllis Chesler discusse
 s her new book\, "An American Bride in Kabul". Books will be available for
  purchase.
DTSTART;TZID=America/New_York:20141112T190000
DTEND;TZID=America/New_York:20141112T220000
END:VEVENT
END:VCALENDAR
