BEGIN:VCALENDAR
PRODID:-//eluceo/ical//2.0/EN
VERSION:2.0
CALSCALE:GREGORIAN
BEGIN:VEVENT
UID:8661825c0bf1f96ef683cf6fed139741
DTSTAMP:20260422T155649Z
SUMMARY:Local Authors - JCC Rockland Jewish Cultural Arts Festival
DESCRIPTION:Jewish Federation & Foundation of Rockland County\nCommunity Ca
 lendar\nhttps://jewishrockland.org/calendar/jcc-rockland-jewish-cultural-a
 rts-festival-11-2-14-evening-66550\n\nMonroe Sid Helfgott will discuss his
  new book\, "The Silence" and Ira Judelson will discuss his book\, "The Fi
 xer". Books will be available for purchase.
DTSTART;TZID=America/New_York:20141102T190000
DTEND;TZID=America/New_York:20141102T220000
END:VEVENT
END:VCALENDAR
