BEGIN:VCALENDAR
PRODID:-//eluceo/ical//2.0/EN
VERSION:2.0
CALSCALE:GREGORIAN
BEGIN:VEVENT
UID:d88fa83cd988aa08aa1232bc33c4cc4d
DTSTAMP:20260424T031251Z
SUMMARY:Steven Pressman\, "Fifty Children"JCC Rockland Jewish Cultural Arts
  Festival
DESCRIPTION:Jewish Federation & Foundation of Rockland County\nCommunity Ca
 lendar\nhttps://jewishrockland.org/calendar/jcc-rockland-jewish-cultural-a
 rts-festival-11-6-14-evening-66552\n\nAuthor Steven Pressman will discuss 
 his book and film\, "Fifty Children". Books will be available for purchase
 .
DTSTART;TZID=America/New_York:20141106T190000
DTEND;TZID=America/New_York:20141106T220000
END:VEVENT
END:VCALENDAR
