BEGIN:VCALENDAR
PRODID:-//eluceo/ical//2.0/EN
VERSION:2.0
CALSCALE:GREGORIAN
BEGIN:VEVENT
UID:7e55285573d59a7213d1c17ce4147676
DTSTAMP:20260421T154911Z
SUMMARY:JCC Rockland Jewish Film Festival
DESCRIPTION:Jewish Federation & Foundation of Rockland County\nCommunity Ca
 lendar\nhttps://jewishrockland.org/calendar/jcc-rockland-jewish-film-festi
 val-1512761730\n\nJCC Rockland presents 15th annual International Jewish F
 ilm Festival\, exploring the diversity of Jewish experience around the wor
 ld. Learn more at https://jccrockland.org/film-festival/
DTSTART;TZID=America/New_York:20180404T120000
DTEND;TZID=America/New_York:20180404T140000
END:VEVENT
END:VCALENDAR
