BEGIN:VCALENDAR
PRODID:-//eluceo/ical//2.0/EN
VERSION:2.0
CALSCALE:GREGORIAN
BEGIN:VEVENT
UID:c8901052c5bc3424f8869f2dd7c76a43
DTSTAMP:20260424T031051Z
SUMMARY:JCC Rockland Jewish Film Festival
DESCRIPTION:Jewish Federation & Foundation of Rockland County\nCommunity Ca
 lendar\nhttps://jewishrockland.org/calendar/jcc-rockland-jewish-film-festi
 val-1512762473\n\nJCC Rockland presents 15th annual International Jewish F
 ilm Festival\, exploring the diversity of Jewish experience around the wor
 ld.
DTSTART;TZID=America/New_York:20180424T120000
DTEND;TZID=America/New_York:20180424T140000
END:VEVENT
END:VCALENDAR
