BEGIN:VCALENDAR
PRODID:-//eluceo/ical//2.0/EN
VERSION:2.0
CALSCALE:GREGORIAN
BEGIN:VEVENT
UID:4cdfc93b12b9cacc759f09652b68375a
DTSTAMP:20260421T041950Z
SUMMARY:JCC Rockland Jewish Film Festival
DESCRIPTION:Jewish Federation & Foundation of Rockland County\nCommunity Ca
 lendar\nhttps://jewishrockland.org/calendar/jcc-rockland-jewish-film-festi
 val-1512762524\n\nJCC Rockland presents 15th annual International Jewish F
 ilm Festival\, exploring the diversity of Jewish experience around the wor
 ld.
DTSTART;TZID=America/New_York:20180424T191500
DTEND;TZID=America/New_York:20180424T211500
END:VEVENT
END:VCALENDAR
