BEGIN:VCALENDAR
PRODID:-//eluceo/ical//2.0/EN
VERSION:2.0
CALSCALE:GREGORIAN
BEGIN:VEVENT
UID:823bc80af9284d3b075706223b723c95
DTSTAMP:20260420T050612Z
SUMMARY:JCC Rockland Jewish Film Festival
DESCRIPTION:Jewish Federation & Foundation of Rockland County\nCommunity Ca
 lendar\nhttps://jewishrockland.org/calendar/jcc-rockland-jewish-film-festi
 val-1512762591\n\nJCC Rockland presents 15th annual International Jewish F
 ilm Festival\, exploring the diversity of Jewish experience around the wor
 ld.
DTSTART;TZID=America/New_York:20180425T120000
DTEND;TZID=America/New_York:20180425T140000
END:VEVENT
END:VCALENDAR
