BEGIN:VCALENDAR
PRODID:-//eluceo/ical//2.0/EN
VERSION:2.0
CALSCALE:GREGORIAN
BEGIN:VEVENT
UID:f7d0454be5b5a9ddda9d469836e23da1
DTSTAMP:20260420T191828Z
SUMMARY:JCC Rockland Jewish Film Festival
DESCRIPTION:Jewish Federation & Foundation of Rockland County\nCommunity Ca
 lendar\nhttps://jewishrockland.org/calendar/jcc-rockland-jewish-film-festi
 val-1512762705\n\nJCC Rockland presents 15th annual International Jewish F
 ilm Festival\, exploring the diversity of Jewish experience around the wor
 ld.
DTSTART;TZID=America/New_York:20180429T100000
DTEND;TZID=America/New_York:20180429T120000
END:VEVENT
END:VCALENDAR
