BEGIN:VCALENDAR
PRODID:-//eluceo/ical//2.0/EN
VERSION:2.0
CALSCALE:GREGORIAN
BEGIN:VEVENT
UID:03c6aa88433a0335eb70c769872277e9
DTSTAMP:20260420T222329Z
SUMMARY:JCC Rockland Jewish Film Festival
DESCRIPTION:Jewish Federation & Foundation of Rockland County\nCommunity Ca
 lendar\nhttps://jewishrockland.org/calendar/jcc-rockland-jewish-film-festi
 val-1514322657\n\nJCC Rockland presents 15th annual International Jewish F
 ilm Festival\, exploring the diversity of Jewish experience around the wor
 ld. Learn more at https://jccrockland.org/film-festival/
DTSTART;TZID=America/New_York:20180417T133000
DTEND;TZID=America/New_York:20180417T153000
END:VEVENT
END:VCALENDAR
