BEGIN:VCALENDAR
PRODID:-//eluceo/ical//2.0/EN
VERSION:2.0
CALSCALE:GREGORIAN
BEGIN:VEVENT
UID:dfdb8817ed755d7b8ea4b933ef23b583
DTSTAMP:20260422T161351Z
SUMMARY:JCC Rockland Jewish Film Festival 3/12/17
DESCRIPTION:Jewish Federation & Foundation of Rockland County\nCommunity Ca
 lendar\nhttps://jewishrockland.org/calendar/jcc-rockland-jewish-film-festi
 val-31217\n\nJCC Rockland Jewish Film Festival  - 3/12/17
DTSTART;TZID=America/New_York:20170312T190000
DTEND;TZID=America/New_York:20170312T210000
END:VEVENT
END:VCALENDAR
