BEGIN:VCALENDAR
PRODID:-//eluceo/ical//2.0/EN
VERSION:2.0
CALSCALE:GREGORIAN
BEGIN:VEVENT
UID:27554aae0eb4263f182c25de2decc518
DTSTAMP:20260419T161449Z
SUMMARY:JCC Rockland Jewish Film Festival 3/15/17
DESCRIPTION:Jewish Federation & Foundation of Rockland County\nCommunity Ca
 lendar\nhttps://jewishrockland.org/calendar/jcc-rockland-jewish-film-festi
 val-31517\n\nJCC Rockland Jewish Film Festival 2017. Visit jccrockland.org
  or call 845-362-4400 for more information.
DTSTART;TZID=America/New_York:20170315T193000
DTEND;TZID=America/New_York:20170315T213000
END:VEVENT
END:VCALENDAR
